BEGIN:VCALENDAR
VERSION:2.0
PRODID:-//Drone Space - ECPv6.15.20//NONSGML v1.0//EN
CALSCALE:GREGORIAN
METHOD:PUBLISH
X-WR-CALNAME:Drone Space
X-ORIGINAL-URL:https://dronesspace.com.br
X-WR-CALDESC:Eventos para Drone Space
REFRESH-INTERVAL;VALUE=DURATION:PT1H
X-Robots-Tag:noindex
X-PUBLISHED-TTL:PT1H
BEGIN:VTIMEZONE
TZID:America/Sao_Paulo
BEGIN:STANDARD
TZOFFSETFROM:-0300
TZOFFSETTO:-0300
TZNAME:-03
DTSTART:20210101T000000
END:STANDARD
END:VTIMEZONE
BEGIN:VEVENT
DTSTART;TZID=America/Sao_Paulo:20241022T080000
DTEND;TZID=America/Sao_Paulo:20241022T170000
DTSTAMP:20260423T122000
CREATED:20241022T190914Z
LAST-MODIFIED:20241023T133853Z
UID:745-1729584000-1729616400@dronesspace.com.br
SUMMARY:Voo e Búzios RJ
DESCRIPTION:A agenda de voo está de volta com mais um voo.. Agora desta vez será Búzios na praia das Caravelas RJ.\nAs filmagens serão realizadas em Abril de 2025 e o filme completo estará disponível no nosso canal do Youtube.\n  \nAGUARDEM !!!!\n 
URL:https://dronesspace.com.br/voo/voo-e-buzios-rj/
CATEGORIES:Conheça por Cima,Construção Civil,Eventos,Marketing Imobiliário
ATTACH;FMTTYPE=image/jpeg:https://dronesspace.com.br/wp-content/uploads/Buzios.jpg
END:VEVENT
BEGIN:VEVENT
DTSTART;TZID=America/Sao_Paulo:20230807T160000
DTEND;TZID=America/Sao_Paulo:20230807T163000
DTSTAMP:20260423T122000
CREATED:20230807T191925Z
LAST-MODIFIED:20240620T111542Z
UID:684-1691424000-1691425800@dronesspace.com.br
SUMMARY:Voos internacionais
DESCRIPTION: Diante das restrições do Governo Norte-americano da marca DJI no território americano\, os voos nos Estados Unidos estarão suspensos por tempo indeterminado\, até que haja mudanças na proibição do uso da marca naquele pais. A Drone Space utiliza drone da marca DJI e infelizmente nos impossibilitando de fazer as filmagens. Estaremos acompanhando as informações pertinente sobre o assunto e estaremos atualizando aqui na agenda de voo.\n  \n  \n \n  \n 
URL:https://dronesspace.com.br/voo/voos-internacionais/
ATTACH;FMTTYPE=image/jpeg:https://dronesspace.com.br/wp-content/uploads/Design-sem-titulo-3-scaled.jpeg
END:VEVENT
BEGIN:VEVENT
DTSTART;TZID=America/Sao_Paulo:20230730T080000
DTEND;TZID=America/Sao_Paulo:20230731T170000
DTSTAMP:20260423T122000
CREATED:20230604T204223Z
LAST-MODIFIED:20230805T011658Z
UID:664-1690704000-1690822800@dronesspace.com.br
SUMMARY:Voo em Petrópolis
DESCRIPTION:A Drone Space realizou as filmagens em Petrópolis\, região serrana do Estado do Rio de Janeiro. Confira as imagens !\n  \n  \n  \n \n 
URL:https://dronesspace.com.br/voo/voo-em-petropolis/
ATTACH;FMTTYPE=image/jpeg:https://dronesspace.com.br/wp-content/uploads/R.jpeg
END:VEVENT
BEGIN:VEVENT
DTSTART;TZID=America/Sao_Paulo:20230407T080000
DTEND;TZID=America/Sao_Paulo:20230409T170000
DTSTAMP:20260423T122000
CREATED:20230326T151632Z
LAST-MODIFIED:20230414T031458Z
UID:642-1680854400-1681059600@dronesspace.com.br
SUMMARY:Voo em Paraty (RJ)
DESCRIPTION:A Drone Space realizou o voo na região de Paraty (RJ)\, Apesar das condições meteorológicas não tenham sido favoráveis no dia das filmagens\, conseguimos os materiais necessários para o filme. Confira no  You Tube. \n  \n \n  \n  \n 
URL:https://dronesspace.com.br/voo/voo-em-paraty-rj/
ATTACH;FMTTYPE=image/jpeg:https://dronesspace.com.br/wp-content/uploads/ilhas-duas-irmas-gemeas-paraty-rio-de-janeiro.jpg
END:VEVENT
BEGIN:VEVENT
DTSTART;TZID=America/Sao_Paulo:20230311T080000
DTEND;TZID=America/Sao_Paulo:20230312T100000
DTSTAMP:20260423T122000
CREATED:20230307T124958Z
LAST-MODIFIED:20230330T004921Z
UID:615-1678521600-1678615200@dronesspace.com.br
SUMMARY:VOOS NA REGIÃO DE ESPIRITO SANTO DO PINHAL E REGIÃO
DESCRIPTION:A DRONE SPACE realizou as imagens aéreas do Espirito Santo do Pinhal e região\, incluindo Jacutinga(MG). As imagens estão disponíveis no nosso canal no YouTube.
URL:https://dronesspace.com.br/voo/voo-em-espiritu-santo-do-pinhal-e-regiao/
ATTACH;FMTTYPE=image/jpeg:https://dronesspace.com.br/wp-content/uploads/Dimensoes-personalizadas-800x600-px-2.jpeg
END:VEVENT
BEGIN:VEVENT
DTSTART;TZID=America/Sao_Paulo:20230115T223514
DTEND;TZID=America/Sao_Paulo:20230115T223514
DTSTAMP:20260423T122000
CREATED:20230115T223513Z
LAST-MODIFIED:20230115T223513Z
UID:600-1673822114-1673822114@dronesspace.com.br
SUMMARY:Voo no Nordeste Brasileiro
DESCRIPTION:A Drone Space está se preparando para voar nas praias mais exuberantes do nordeste brasileiro. Com Risorts e ilhas farão o cenário dos próximos filmes das nossas produções. Em breve !!!
URL:https://dronesspace.com.br/voo/voo-no-nordeste-brasileiro/
ATTACH;FMTTYPE=image/jpeg:https://dronesspace.com.br/wp-content/uploads/5-1.jpg
END:VEVENT
BEGIN:VEVENT
DTSTART;TZID=America/Sao_Paulo:20230106T220000
DTEND;TZID=America/Sao_Paulo:20230106T230000
DTSTAMP:20260423T122000
CREATED:20221215T174848Z
LAST-MODIFIED:20230107T214854Z
UID:574-1673042400-1673046000@dronesspace.com.br
SUMMARY:Voo em Campos do Jordão.
DESCRIPTION:Devido ao mau tempo em São Paulo\, as filmagens em Campos de Jordão foram canceladas. A Drone Space estará reagendando o voo em Campos do Jordão e em breve voltaremos com mais informações.\n\n  \n 
URL:https://dronesspace.com.br/voo/voo-em-campos-do-jordao/
LOCATION:Campos do Jordão\, 12460-000\, Brasil
ATTACH;FMTTYPE=image/jpeg:https://dronesspace.com.br/wp-content/uploads/natal-campos-jordao.jpeg
END:VEVENT
BEGIN:VEVENT
DTSTART;VALUE=DATE:20220724
DTEND;VALUE=DATE:20220725
DTSTAMP:20260423T122000
CREATED:20220818T200127Z
LAST-MODIFIED:20220826T001937Z
UID:277-1658620800-1658707199@dronesspace.com.br
SUMMARY:Igaratá - São Paulo
DESCRIPTION:Filmagem feita na cidade de Igaratá mostrando a região da represa com paisagem exuberante e atraente. Foi utilizado o Drone Mavic Air 2. Produção de imagens e operador de Drone – Manuel D Oliveira Filho. Co-produção Fábia Barradas. \nA Drone Space postará aqui na agenda de voo os próximos voos. Confira sempre os próximos voos. \n  \n\n \n 
URL:https://dronesspace.com.br/voo/igarata-sao-paulo/
LOCATION:Igaratá\, Igaratá\, São Paulo\, Brasil
CATEGORIES:Conheça por Cima
ATTACH;FMTTYPE=image/jpeg:https://dronesspace.com.br/wp-content/uploads/Igarata.jpg
END:VEVENT
END:VCALENDAR